BEGIN:VCALENDAR
VERSION:2.0
PRODID:-//Region 2 HMCC - ECPv6.8.2.1//NONSGML v1.0//EN
CALSCALE:GREGORIAN
METHOD:PUBLISH
X-WR-CALNAME:Region 2 HMCC
X-ORIGINAL-URL:https://maregion2hmcc.org
X-WR-CALDESC:Events for Region 2 HMCC
REFRESH-INTERVAL;VALUE=DURATION:PT1H
X-Robots-Tag:noindex
X-PUBLISHED-TTL:PT1H
BEGIN:VTIMEZONE
TZID:America/New_York
BEGIN:DAYLIGHT
TZOFFSETFROM:-0500
TZOFFSETTO:-0400
TZNAME:EDT
DTSTART:20230312T070000
END:DAYLIGHT
BEGIN:STANDARD
TZOFFSETFROM:-0400
TZOFFSETTO:-0500
TZNAME:EST
DTSTART:20231105T060000
END:STANDARD
BEGIN:DAYLIGHT
TZOFFSETFROM:-0500
TZOFFSETTO:-0400
TZNAME:EDT
DTSTART:20240310T070000
END:DAYLIGHT
BEGIN:STANDARD
TZOFFSETFROM:-0400
TZOFFSETTO:-0500
TZNAME:EST
DTSTART:20241103T060000
END:STANDARD
BEGIN:DAYLIGHT
TZOFFSETFROM:-0500
TZOFFSETTO:-0400
TZNAME:EDT
DTSTART:20250309T070000
END:DAYLIGHT
BEGIN:STANDARD
TZOFFSETFROM:-0400
TZOFFSETTO:-0500
TZNAME:EST
DTSTART:20251102T060000
END:STANDARD
BEGIN:DAYLIGHT
TZOFFSETFROM:-0500
TZOFFSETTO:-0400
TZNAME:EDT
DTSTART:20260308T070000
END:DAYLIGHT
BEGIN:STANDARD
TZOFFSETFROM:-0400
TZOFFSETTO:-0500
TZNAME:EST
DTSTART:20261101T060000
END:STANDARD
TZID:UTC
BEGIN:STANDARD
TZOFFSETFROM:+0000
TZOFFSETTO:+0000
TZNAME:UTC
DTSTART:20230101T000000
END:STANDARD
END:VTIMEZONE
BEGIN:VEVENT
DTSTART;TZID=America/New_York:20260402T090000
DTEND;TZID=America/New_York:20260402T100000
DTSTAMP:20260421T120015
CREATED:20250709T164659Z
LAST-MODIFIED:20260330T131418Z
UID:10000661-1775120400-1775124000@maregion2hmcc.org
SUMMARY:Region 2 Public Health Emergency Preparedness Program (PHEP) - April 2026
DESCRIPTION:In-Person Meeting\nWachusett Mountain Ski Area – The Maple Room\n499 Mountain Rd. Princeton\, MA 01541 \nFY26 PHEP Steering Agenda April 2 2026 \nSteering Commitee Minutes March 5\, 2026-Draft
URL:https://maregion2hmcc.org/event/region-2-public-health-emergency-preparedness-program-phep-april-2026/
LOCATION:Wachusett Mountain Ski Area\, 499 Mountain Road\, Princeton\, 01541\, United States
CATEGORIES:PHEP,Public Event
END:VEVENT
BEGIN:VEVENT
DTSTART;TZID=America/New_York:20260305T090000
DTEND;TZID=America/New_York:20260305T103000
DTSTAMP:20260421T120015
CREATED:20250709T164528Z
LAST-MODIFIED:20260302T191756Z
UID:10000660-1772701200-1772706600@maregion2hmcc.org
SUMMARY:Region 2 Public Health Emergency Preparedness Program (PHEP) - March 2026
DESCRIPTION:Microsoft Teams Need help? \nJoin the meeting now \nMeeting ID: 230 086 509 772 4 \nPasscode: wc69ig3o \nDial in by phone \n+1 469-998-7682\,\,641254411# United States\, Dallas \nFind a local number \nPhone conference ID: 641 254 411# \nFY26 PHEP Steering Agenda March 5 2026 \nPHEP Steering Committee Minutes February 5\, 2026-Draft
URL:https://maregion2hmcc.org/event/region-2-public-health-emergency-preparedness-program-phep-march-2026/
LOCATION:MA
CATEGORIES:PHEP,Public Event
END:VEVENT
BEGIN:VEVENT
DTSTART;TZID=America/New_York:20260205T090000
DTEND;TZID=America/New_York:20260205T103000
DTSTAMP:20260421T120015
CREATED:20250709T164358Z
LAST-MODIFIED:20260202T151627Z
UID:10000659-1770282000-1770287400@maregion2hmcc.org
SUMMARY:Region 2 Public Health Emergency Preparedness Program (PHEP) - February 2026
DESCRIPTION:Microsoft Teams Need help? \nJoin the meeting now \nMeeting ID: 230 086 509 772 4 \nPasscode: wc69ig3o \nDial in by phone \n+1 469-998-7682\,\,641254411# United States\, Dallas \nFind a local number \nPhone conference ID: 641 254 411# \nFY26 PHEP Steering Agenda Feb 5 2026 \nFY26 PHEP Steering Committee Minutes January 8\, 2026-Draft
URL:https://maregion2hmcc.org/event/region-2-public-health-emergency-preparedness-program-phep-february-2026/
LOCATION:MA
CATEGORIES:PHEP,Public Event
END:VEVENT
BEGIN:VEVENT
DTSTART;TZID=America/New_York:20260108T090000
DTEND;TZID=America/New_York:20260108T103000
DTSTAMP:20260421T120015
CREATED:20250709T164212Z
LAST-MODIFIED:20251230T154408Z
UID:10000658-1767862800-1767868200@maregion2hmcc.org
SUMMARY:Region 2 Public Health Emergency Preparedness Program (PHEP) - January 2026
DESCRIPTION:Microsoft Teams Need help? \nJoin the meeting now \nMeeting ID: 230 086 509 772 4 \nPasscode: wc69ig3o \nDial in by phone \n+1 469-998-7682\,\,641254411# United States\, Dallas \nFind a local number \nPhone conference ID: 641 254 411# \nFY26 PHEP Steering Agenda Jan 8 2026 \nPHEP Steering Committee Minutes December 4\, 2025-Draft
URL:https://maregion2hmcc.org/event/region-2-public-health-emergency-preparedness-program-phep-january-2026/
LOCATION:MA
CATEGORIES:PHEP,Public Event
END:VEVENT
BEGIN:VEVENT
DTSTART;TZID=America/New_York:20251204T090000
DTEND;TZID=America/New_York:20251204T103000
DTSTAMP:20260421T120015
CREATED:20250709T164025Z
LAST-MODIFIED:20251126T135939Z
UID:10000657-1764838800-1764844200@maregion2hmcc.org
SUMMARY:Region 2 Public Health Emergency Preparedness Program (PHEP) - December 2025
DESCRIPTION:In-Person Meeting: \nMillbury Fire Headquarters \n130 Elm St. Millbury\, MA 01527 \nFY26 PHEP Steering Agenda Dec 4 2025 \nFY26 PHEP Steering Committee Minutes November 13 2025-Draft \n  \n 
URL:https://maregion2hmcc.org/event/region-2-public-health-emergency-preparedness-program-phep-december-2025/
LOCATION:Millbury Fire Dept\, 130 Elm St.\, Millbury\, MA\, 01527\, United States
CATEGORIES:PHEP,Public Event
END:VEVENT
BEGIN:VEVENT
DTSTART;TZID=America/New_York:20251113T090000
DTEND;TZID=America/New_York:20251113T103000
DTSTAMP:20260421T120015
CREATED:20250709T163854Z
LAST-MODIFIED:20251110T141741Z
UID:10000656-1763024400-1763029800@maregion2hmcc.org
SUMMARY:Region 2 Public Health Emergency Preparedness Program (PHEP) - November 2025
DESCRIPTION:Please note the date change from November 6 to November 13. \n  \nFY26 PHEP Steering Agenda Nov 13 2025 \nSteering Commitee Minutes October 2\, 2025-Draft \nMicrosoft Teams Need help? \nJoin the meeting now \nMeeting ID: 230 086 509 772 4 \nPasscode: wc69ig3o \nDial in by phone \n+1 469-998-7682\,\,641254411# United States\, Dallas \nFind a local number \nPhone conference ID: 641 254 411#
URL:https://maregion2hmcc.org/event/region-2-public-health-emergency-preparedness-program-phep-november-2025/
LOCATION:MA
CATEGORIES:PHEP,Public Event
END:VEVENT
BEGIN:VEVENT
DTSTART;TZID=America/New_York:20251002T090000
DTEND;TZID=America/New_York:20251002T103000
DTSTAMP:20260421T120015
CREATED:20250709T163653Z
LAST-MODIFIED:20250929T122934Z
UID:10000655-1759395600-1759401000@maregion2hmcc.org
SUMMARY:Region 2 Public Health Emergency Preparedness Program (PHEP) - October 2025
DESCRIPTION:In-Person Meeting: \nRed Apple Farm 455 Highland Ave Phillipston\, MA 01331 \nFY26 PHEP Steering Agenda Oct 2 2025 \nSteering Commitee Minutes September 4\, 2025-Draft \n 
URL:https://maregion2hmcc.org/event/region-2-public-health-emergency-preparedness-program-phep-october-2025/
LOCATION:Red Apple Farm – 455 Highland St. Phillipston\, MA 01331\, 455 Highland Ave\, Phillipston\, MA\, 01331\, United States
CATEGORIES:PHEP,Public Event
END:VEVENT
BEGIN:VEVENT
DTSTART;TZID=America/New_York:20250904T090000
DTEND;TZID=America/New_York:20250904T103000
DTSTAMP:20260421T120015
CREATED:20250709T163443Z
LAST-MODIFIED:20250829T203321Z
UID:10000654-1756976400-1756981800@maregion2hmcc.org
SUMMARY:Region 2 Public Health Emergency Preparedness Program (PHEP) - September 2025
DESCRIPTION:PHEP Steering Agenda Sept 4 2025 \nReg 2 PHEP Steering Commitee Minutes August 7 2025-Draft \nMicrosoft Teams Need help? \nJoin the meeting now \nMeeting ID: 230 086 509 772 4 \nPasscode: wc69ig3o \nDial in by phone \n+1 469-998-7682\,\,641254411# United States\, Dallas \nFind a local number \nPhone conference ID: 641 254 411#
URL:https://maregion2hmcc.org/event/region-2-public-health-emergency-preparedness-program-phep-september-2025/
LOCATION:Millbury Fire Dept\, 130 Elm St.\, Millbury\, MA\, 01527\, United States
CATEGORIES:PHEP,Public Event
END:VEVENT
BEGIN:VEVENT
DTSTART;TZID=America/New_York:20250807T090000
DTEND;TZID=America/New_York:20250807T103000
DTSTAMP:20260421T120015
CREATED:20250709T163015Z
LAST-MODIFIED:20250804T144034Z
UID:10000653-1754557200-1754562600@maregion2hmcc.org
SUMMARY:Region 2 Public Health Emergency Preparedness Program (PHEP) - August 2025
DESCRIPTION:The meeting will take place at the Sturbridge Senior Center 480 Main Street\, Sturbridge\, MA 01518 \nPlease park across the street at the Rapscallion Pub 3 Arnold Road\, Sturbridge\, MA 01518 \nAfter the meeting there will be a tour of the new Senior Center. \n  \nReg 2 PHEP Steering Agenda August 7 2025 \nSteering Commitee Minutes June 5\, 2025-Draft
URL:https://maregion2hmcc.org/event/region-2-public-health-emergency-preparedness-program-phep-august-2025/
LOCATION:Sturbridge Senior Center\, 480 Main St\, Sturbridge\, MA\, 01518\, United States
CATEGORIES:PHEP,Public Event
END:VEVENT
BEGIN:VEVENT
DTSTART;TZID=America/New_York:20250605T090000
DTEND;TZID=America/New_York:20250605T103000
DTSTAMP:20260421T120015
CREATED:20240806T210249Z
LAST-MODIFIED:20250602T121055Z
UID:10000651-1749114000-1749119400@maregion2hmcc.org
SUMMARY:Region 2 Public Health Emergency Preparedness Program (PHEP) - June 2025
DESCRIPTION:Join the meeting now \nMeeting ID: 210 175 575 796 \nPasscode: 7gygSm \nDial in by phone \n+1 469-998-7682\,\,699458794# United States\, Dallas \nFind a local number \nPhone conference ID: 699 458 794# \nReg 2 PHEP Steering Agenda June 5 2025 \nFY25 Reg 2 PHEP Steering Commitee Minutes May 1\, 2025-Draft
URL:https://maregion2hmcc.org/event/region-2-public-health-emergency-preparedness-program-phep-june-2025/
LOCATION:Millbury Fire Dept\, 130 Elm St.\, Millbury\, MA\, 01527\, United States
CATEGORIES:PHEP,Public Event
END:VEVENT
BEGIN:VEVENT
DTSTART;TZID=America/New_York:20250501T090000
DTEND;TZID=America/New_York:20250501T103000
DTSTAMP:20260421T120015
CREATED:20240806T210126Z
LAST-MODIFIED:20250428T134002Z
UID:10000650-1746090000-1746095400@maregion2hmcc.org
SUMMARY:Region 2 Public Health Emergency Preparedness Program (PHEP) - May 2025
DESCRIPTION:Join the meeting now \nMeeting ID: 210 175 575 796 \nPasscode: 7gygSm \nDial in by phone \n+1 469-998-7682\,\,699458794# United States\, Dallas \nFind a local number \nPhone conference ID: 699 458 794# \nReg 2 PHEP Steering Agenda May 1 2025 \nPHEP Steering Commitee Minutes April 3\, 2025-Draft
URL:https://maregion2hmcc.org/event/region-2-public-health-emergency-preparedness-program-phep-may-2025/
LOCATION:Millbury Fire Dept\, 130 Elm St.\, Millbury\, MA\, 01527\, United States
CATEGORIES:PHEP,Public Event
END:VEVENT
BEGIN:VEVENT
DTSTART;TZID=America/New_York:20250403T090000
DTEND;TZID=America/New_York:20250403T103000
DTSTAMP:20260421T120015
CREATED:20240806T210008Z
LAST-MODIFIED:20250331T124927Z
UID:10000649-1743670800-1743676200@maregion2hmcc.org
SUMMARY:Region 2 Public Health Emergency Preparedness Program (PHEP) - April 2025
DESCRIPTION:This is an In-Person Meeting \n25 Meade St. Room 109 \nWorcester\, MA 01610 \nPHEP Steering Agenda April 3 2025 \nSteering Commitee Minutes March 6\, 2025-Draft
URL:https://maregion2hmcc.org/event/region-2-public-health-emergency-preparedness-program-phep-april-2025/
LOCATION:25 Meade St. Room 109 Worcester\, MA 01610\, 25 Meade Street Room 109\, Worcester\, MA\, 01610\, United States
CATEGORIES:PHEP,Public Event
END:VEVENT
BEGIN:VEVENT
DTSTART;TZID=America/New_York:20250306T090000
DTEND;TZID=America/New_York:20250306T103000
DTSTAMP:20260421T120015
CREATED:20240806T205841Z
LAST-MODIFIED:20250303T202838Z
UID:10000648-1741251600-1741257000@maregion2hmcc.org
SUMMARY:Region 2 Public Health Emergency Preparedness Program (PHEP) - March 2025
DESCRIPTION:Join the meeting now \nMeeting ID: 210 175 575 796 \nPasscode: 7gygSm \nDial in by phone \n+1 469-998-7682\,\,699458794# United States\, Dallas \nFind a local number \nPhone conference ID: 699 458 794# \nPHEP Steering Agenda March 6 2025 \nPHEP Steering Commitee Minutes February 6\, 2025-Draft
URL:https://maregion2hmcc.org/event/region-2-public-health-emergency-preparedness-program-phep-march-2025/
LOCATION:Millbury Fire Dept\, 130 Elm St.\, Millbury\, MA\, 01527\, United States
CATEGORIES:PHEP,Public Event
END:VEVENT
BEGIN:VEVENT
DTSTART;TZID=America/New_York:20250206T090000
DTEND;TZID=America/New_York:20250206T103000
DTSTAMP:20260421T120015
CREATED:20240806T205555Z
LAST-MODIFIED:20250203T171115Z
UID:10000647-1738832400-1738837800@maregion2hmcc.org
SUMMARY:Region 2 Public Health Emergency Preparedness Program (PHEP) - February 2025
DESCRIPTION:PHEP Steering Commitee Minutes January 2\, 2025-Draft \nPHEP Steering Agenda Feb 6 2025 \nJoin the meeting now \nMeeting ID: 210 175 575 796 \nPasscode: 7gygSm \nDial in by phone \n+1 469-998-7682\,\,699458794# United States\, Dallas \nFind a local number \nPhone conference ID: 699 458 794#
URL:https://maregion2hmcc.org/event/region-2-public-health-emergency-preparedness-program-phep-february-2025/
LOCATION:MA
CATEGORIES:PHEP,Public Event
END:VEVENT
BEGIN:VEVENT
DTSTART;TZID=America/New_York:20250102T090000
DTEND;TZID=America/New_York:20250102T100000
DTSTAMP:20260421T120015
CREATED:20240806T205433Z
LAST-MODIFIED:20241230T140715Z
UID:10000646-1735808400-1735812000@maregion2hmcc.org
SUMMARY:Region 2 Public Health Emergency Preparedness Program (PHEP) - January 2025
DESCRIPTION:Join the meeting now \nMeeting ID: 210 175 575 796 \nPasscode: 7gygSm \nDial in by phone \n+1 469-998-7682\,\,699458794# United States\, Dallas \nFind a local number \nPhone conference ID: 699 458 794# \nPHEP Steering Agenda Jan 2 2025 \nPHEP Steering Commitee Meeting Minutes December 12 2024-Draft \n 
URL:https://maregion2hmcc.org/event/region-2-public-health-emergency-preparedness-program-phep-january-2025/
LOCATION:MA
CATEGORIES:PHEP,Public Event
END:VEVENT
BEGIN:VEVENT
DTSTART;TZID=America/New_York:20241218T100000
DTEND;TZID=America/New_York:20241218T110000
DTSTAMP:20260421T120015
CREATED:20241216T153631Z
LAST-MODIFIED:20241216T153631Z
UID:10000652-1734516000-1734519600@maregion2hmcc.org
SUMMARY:Reg 2 PHEP Executive Committee Meeting - Dec 18\, 2024
DESCRIPTION:Reg 2 PHEP Executive Committee Meeting Agenda Dec18\, 2024 \nMicrosoft Teams Need help? \nJoin the meeting now \nMeeting ID: 212 587 924 833 \nPasscode: jK6PW2fw \nDial in by phone \n+1 469-998-7682\,\,835682462# United States\, Dallas \nFind a local number \nPhone conference ID: 835 682 462#
URL:https://maregion2hmcc.org/event/reg-2-phep-executive-committee-meeting-dec-18-2024/
LOCATION:Millbury Fire Dept\, 130 Elm St.\, Millbury\, MA\, 01527\, United States
CATEGORIES:PHEP
END:VEVENT
BEGIN:VEVENT
DTSTART;TZID=America/New_York:20241212T090000
DTEND;TZID=America/New_York:20241212T103000
DTSTAMP:20260421T120015
CREATED:20240806T205212Z
LAST-MODIFIED:20241209T220702Z
UID:10000645-1733994000-1733999400@maregion2hmcc.org
SUMMARY:** NEW DATE** Region 2 Public Health Emergency Preparedness Program (PHEP) - December 12\, 2024
DESCRIPTION:In-Person Meeting at Millbury Fire (New Station) – 130 Elm St. Millbury\, MA 01527 \nPHEP Steering Agenda Dec 12 2024 \nPHEP Steering Commitee Minutes November 7\, 2024-Draft
URL:https://maregion2hmcc.org/event/region-2-public-health-emergency-preparedness-program-phep-december-2024/
LOCATION:MA
CATEGORIES:PHEP,Public Event
END:VEVENT
BEGIN:VEVENT
DTSTART;TZID=America/New_York:20241107T090000
DTEND;TZID=America/New_York:20241107T103000
DTSTAMP:20260421T120015
CREATED:20240806T205027Z
LAST-MODIFIED:20241104T182400Z
UID:10000644-1730970000-1730975400@maregion2hmcc.org
SUMMARY:Region 2 Public Health Emergency Preparedness Program (PHEP) - November 2024
DESCRIPTION:Join the meeting now \nMeeting ID: 210 175 575 796 \nPasscode: 7gygSm \nDial in by phone \n+1 469-998-7682\,\,699458794# United States\, Dallas \nFind a local number \nPhone conference ID: 699 458 794# \nDocuments for the meeting: \nPHEP Steering Agenda Nov 7 2024 \nSteering Commitee Minutes October 3 2024-Draft
URL:https://maregion2hmcc.org/event/region-2-public-health-emergency-preparedness-program-phep-november-2024/
LOCATION:MA
CATEGORIES:PHEP,Public Event
END:VEVENT
BEGIN:VEVENT
DTSTART;TZID=America/New_York:20241003T090000
DTEND;TZID=America/New_York:20241003T103000
DTSTAMP:20260421T120015
CREATED:20240806T204620Z
LAST-MODIFIED:20240930T184809Z
UID:10000643-1727946000-1727951400@maregion2hmcc.org
SUMMARY:Region 2 Public Health Emergency Preparedness Program (PHEP) - October 2024
DESCRIPTION:Agenda: PHEP Steering Agenda Oct 3 2024 \nSeptember 5\, 2024 Minutes – Draft:  PHEP Steering Commitee Minutes September 5\, 2024-Draft
URL:https://maregion2hmcc.org/event/region-2-public-health-emergency-preparedness-program-phep-october-2024/
LOCATION:Red Apple Farm – 455 Highland St. Phillipston\, MA 01331\, 455 Highland Ave\, Phillipston\, MA\, 01331\, United States
CATEGORIES:PHEP,Public Event
END:VEVENT
BEGIN:VEVENT
DTSTART;TZID=America/New_York:20240905T090000
DTEND;TZID=America/New_York:20240905T103000
DTSTAMP:20260421T120015
CREATED:20240806T203828Z
LAST-MODIFIED:20240905T194128Z
UID:10000642-1725526800-1725532200@maregion2hmcc.org
SUMMARY:Region 2 Public Health Emergency Preparedness Program (PHEP) - September 2024
DESCRIPTION:Microsoft Teams Need help? \nJoin the meeting now \nMeeting ID: 211 339 432 48 \nPasscode: jQgWVP \nDial in by phone \n+1 469-998-7682\,\,436259022# United States\, Dallas \nFind a local number \nPhone conference ID: 436 259 022# \nPHEP Steering Agenda Sept 5 2024 \nPHEP Steering Commitee Minutes August 1 2024-Final \n 
URL:https://maregion2hmcc.org/event/region-2-public-health-emergency-preparedness-program-phep-september-2024/
LOCATION:MA
CATEGORIES:PHEP,Public Event
END:VEVENT
BEGIN:VEVENT
DTSTART;TZID=America/New_York:20240801T090000
DTEND;TZID=America/New_York:20240801T103000
DTSTAMP:20260421T120015
CREATED:20230717T152613Z
LAST-MODIFIED:20240729T182215Z
UID:10000630-1722502800-1722508200@maregion2hmcc.org
SUMMARY:Region 2 Public Health Emergency Preparedness Program (PHEP)
DESCRIPTION:Join the meeting now \nMeeting ID: 229 611 713 581 \nPasscode: sc3hx2 \nPHEP Steering Committee Agenda – August 1\, 2024 \n \nPHEP Steering Committee Minutes – June 6\, 2024 Draft
URL:https://maregion2hmcc.org/event/region-2-public-health-emergency-preparedness-program-phep-8-2-3/
LOCATION:MA
CATEGORIES:PHEP,Public Event
END:VEVENT
BEGIN:VEVENT
DTSTART;TZID=UTC:20240606T090000
DTEND;TZID=UTC:20240606T103000
DTSTAMP:20260421T120015
CREATED:20240603T203317Z
LAST-MODIFIED:20240603T203644Z
UID:10000574-1717664400-1717669800@maregion2hmcc.org
SUMMARY:Region 2 Public Health Emergency Preparedness Program (PHEP)
DESCRIPTION:PHEP Steering Committee Agenda – June 6\, 2024 \nPHEP Steering Commitee Minutes May 2 2024-Draft
URL:https://maregion2hmcc.org/event/region-2-public-health-emergency-preparedness-program-phep-8-2-3-11/
LOCATION:MA
CATEGORIES:PHEP,Public Event
END:VEVENT
BEGIN:VEVENT
DTSTART;TZID=UTC:20240502T090000
DTEND;TZID=UTC:20240502T103000
DTSTAMP:20260421T120015
CREATED:20240425T201500Z
LAST-MODIFIED:20240425T201929Z
UID:10000573-1714640400-1714645800@maregion2hmcc.org
SUMMARY:Region 2 Public Health Emergency Preparedness Program (PHEP)
DESCRIPTION:This is an in-person meeting at Worcester Division of Public Health – 25 Meade St. Room 109 Worcester\, MA 01610 \nPHEP Steering Agenda May 2\, 2024 \n \nPHEP Steering Committee Minutes April 4\, 2024 – Draft
URL:https://maregion2hmcc.org/event/region-2-public-health-emergency-preparedness-program-phep-8-2-3-10/
LOCATION:MA
CATEGORIES:PHEP,Public Event
END:VEVENT
BEGIN:VEVENT
DTSTART;TZID=UTC:20240404T090000
DTEND;TZID=UTC:20240404T103000
DTSTAMP:20260421T120015
CREATED:20240307T152316Z
LAST-MODIFIED:20240403T134942Z
UID:10000572-1712221200-1712226600@maregion2hmcc.org
SUMMARY:Region 2 Public Health Emergency Preparedness Program (PHEP) - LOCATION UPDATE!
DESCRIPTION:Steering Committee Agenda April 2024 \nSteering Committee March 7th\, 2024 Meeting Minutes \nNOTE: This meeting is now VIRTUAL due to predicted weather conditions!\nhttps://urldefense.com/v3/__https://teams.microsoft.com/l/meetup-join/19*3ameeting_M2VkNjhiMmYtZDc4OS00NDQyLTg4MTktOTNiOTEzOWY1YzEw*40thread.v2/0?context=*7b*22Tid*22*3a*223e861d16-48b7-4a0e-9806-8c04d81b7b2a*22*2c*22Oid*22*3a*2225b0d59b-87f2-4edf-a0d7-f83780e0cd82*22*7d__;JSUlJSUlJSUlJSUlJSUl!!CPANwP4y!V51jZCFqNTMjB9QxR4TYBxjWI-GmgmqkMlmduUibOVQ9qsHfh4zxJ7VEmUKnZ7na535P7N-ruXdWPBKyMS4kQ0CvvqGK7ze94yECSqfyjm35$ \nMeeting ID: 213 707 261 143\nPasscode: HoHGJV \nAgenda posted on 3/29/24 was for in-person meeting location. Due to impending storm\, the meeting location was changed on 4/3/24 to a virtual meeting. The agenda was updated on 4/3/24 with the virtual meeting link information and reposted to the website.
URL:https://maregion2hmcc.org/event/region-2-public-health-emergency-preparedness-program-phep-8-2-3-9/
LOCATION:MA
CATEGORIES:PHEP,Public Event
END:VEVENT
BEGIN:VEVENT
DTSTART;TZID=UTC:20240307T090000
DTEND;TZID=UTC:20240307T103000
DTSTAMP:20260421T120015
CREATED:20240221T143253Z
LAST-MODIFIED:20240301T162249Z
UID:10000571-1709802000-1709807400@maregion2hmcc.org
SUMMARY:Region 2 Public Health Emergency Preparedness Program (PHEP)
DESCRIPTION:Steering Commitee Minutes February 1 2024-Draft \nSteering Committee Agenda March 7th\, 2024
URL:https://maregion2hmcc.org/event/region-2-public-health-emergency-preparedness-program-phep-8-2-3-8/
LOCATION:MA
CATEGORIES:PHEP,Public Event
END:VEVENT
BEGIN:VEVENT
DTSTART;TZID=UTC:20240201T090000
DTEND;TZID=UTC:20240201T103000
DTSTAMP:20260421T120015
CREATED:20240123T190449Z
LAST-MODIFIED:20240123T190518Z
UID:10000570-1706778000-1706783400@maregion2hmcc.org
SUMMARY:Region 2 Public Health Emergency Preparedness Program (PHEP)
DESCRIPTION:PHEP Steering Agenda Feb 2024 \nPHEP Steering Commitee Minutes January 4 2024-Draft
URL:https://maregion2hmcc.org/event/region-2-public-health-emergency-preparedness-program-phep-8-2-3-7/
LOCATION:MA
CATEGORIES:PHEP,Public Event
END:VEVENT
BEGIN:VEVENT
DTSTART;TZID=UTC:20240104T090000
DTEND;TZID=UTC:20240104T103000
DTSTAMP:20260421T120015
CREATED:20231228T204105Z
LAST-MODIFIED:20231228T204806Z
UID:10000569-1704358800-1704364200@maregion2hmcc.org
SUMMARY:Region 2 Public Health Emergency Preparedness Program (PHEP)
DESCRIPTION:PHEP Steering Agenda Jan 2024\nSteering Commitee Minutes December 7 2023-Draft
URL:https://maregion2hmcc.org/event/region-2-public-health-emergency-preparedness-program-phep-8-2-3-6/
LOCATION:MA
CATEGORIES:PHEP,Public Event
END:VEVENT
BEGIN:VEVENT
DTSTART;TZID=UTC:20231207T090000
DTEND;TZID=UTC:20231207T103000
DTSTAMP:20260421T120015
CREATED:20231115T212254Z
LAST-MODIFIED:20231203T192627Z
UID:10000568-1701939600-1701945000@maregion2hmcc.org
SUMMARY:Region 2 Public Health Emergency Preparedness Program (PHEP)
DESCRIPTION:The meeting will be held at Auburn Town Hall – Selectboard Meeting Room – 104 Central St. Auburn\, MA 01501 \nPHEP Steering Committee Meeting Agenda Dec 2023 \n \nPHEP Steering Meeting Minutes Nov 2023 Draft
URL:https://maregion2hmcc.org/event/region-2-public-health-emergency-preparedness-program-phep-8-2-3-5/
LOCATION:Auburn Town Hall – Selectboard Meeting Room\, 104 Central St\, Auburn\, MA\, 01501\, United States
CATEGORIES:PHEP,Public Event
END:VEVENT
BEGIN:VEVENT
DTSTART;TZID=America/New_York:20231102T090000
DTEND;TZID=America/New_York:20231102T103000
DTSTAMP:20260421T120015
CREATED:20231018T132323Z
LAST-MODIFIED:20231030T172859Z
UID:10000567-1698915600-1698921000@maregion2hmcc.org
SUMMARY:Region 2 Public Health Emergency Preparedness Program (PHEP)
DESCRIPTION:The November 2nd\, 2023 PHEP meeting will take place in person: \nSelectmen’s Meeting Room \nCharlton Town Hall \n37 Main St. Charlton\, MA 01507 \nPHEP Steering Agenda Nov 2023 \nSteering Commitee Minutes October 5\, 2023-Draft \n 
URL:https://maregion2hmcc.org/event/region-2-public-health-emergency-preparedness-program-phep-8-2-3-4/
LOCATION:Charlton Town Hall – Selectmen’s Meeting Room\, 37 Main St.\, Charlton\, MA\, 01507\, United States
CATEGORIES:PHEP,Public Event
END:VEVENT
BEGIN:VEVENT
DTSTART;TZID=UTC:20231005T090000
DTEND;TZID=UTC:20231005T103000
DTSTAMP:20260421T120015
CREATED:20230901T133042Z
LAST-MODIFIED:20231002T124724Z
UID:10000566-1696496400-1696501800@maregion2hmcc.org
SUMMARY:Region 2 Public Health Emergency Preparedness Program (PHEP)
DESCRIPTION:Meeting for October 5\, 2023 will be held at: \nRed Apple Farm 455 Highland Ave. Phillipston\, MA 01331 \nhttps://maregion2hmcc.org/wp-content/uploads/2023/10/PHEP-Steering-Agenda-Oct-2023.docx \nhttps://maregion2hmcc.org/wp-content/uploads/2023/10/Steering-Committee-Minutes-September-7-2023-Draft.docx
URL:https://maregion2hmcc.org/event/region-2-public-health-emergency-preparedness-program-phep-8-2-3-3/
LOCATION:Red Apple Farm – 455 Highland St. Phillipston\, MA 01331\, 455 Highland Ave\, Phillipston\, MA\, 01331\, United States
CATEGORIES:PHEP,Public Event
END:VEVENT
END:VCALENDAR