BEGIN:VCALENDAR
VERSION:2.0
PRODID:-//Region 2 HMCC - ECPv6.8.2.1//NONSGML v1.0//EN
CALSCALE:GREGORIAN
METHOD:PUBLISH
X-WR-CALNAME:Region 2 HMCC
X-ORIGINAL-URL:https://maregion2hmcc.org
X-WR-CALDESC:Events for Region 2 HMCC
REFRESH-INTERVAL;VALUE=DURATION:PT1H
X-Robots-Tag:noindex
X-PUBLISHED-TTL:PT1H
BEGIN:VTIMEZONE
TZID:America/New_York
BEGIN:DAYLIGHT
TZOFFSETFROM:-0500
TZOFFSETTO:-0400
TZNAME:EDT
DTSTART:20260308T070000
END:DAYLIGHT
BEGIN:STANDARD
TZOFFSETFROM:-0400
TZOFFSETTO:-0500
TZNAME:EST
DTSTART:20261101T060000
END:STANDARD
END:VTIMEZONE
BEGIN:VEVENT
DTSTART;TZID=America/New_York:20260305T090000
DTEND;TZID=America/New_York:20260305T103000
DTSTAMP:20260421T132403
CREATED:20250709T164528Z
LAST-MODIFIED:20260302T191756Z
UID:10000660-1772701200-1772706600@maregion2hmcc.org
SUMMARY:Region 2 Public Health Emergency Preparedness Program (PHEP) - March 2026
DESCRIPTION:Microsoft Teams Need help? \nJoin the meeting now \nMeeting ID: 230 086 509 772 4 \nPasscode: wc69ig3o \nDial in by phone \n+1 469-998-7682\,\,641254411# United States\, Dallas \nFind a local number \nPhone conference ID: 641 254 411# \nFY26 PHEP Steering Agenda March 5 2026 \nPHEP Steering Committee Minutes February 5\, 2026-Draft
URL:https://maregion2hmcc.org/event/region-2-public-health-emergency-preparedness-program-phep-march-2026/
LOCATION:MA
CATEGORIES:PHEP,Public Event
END:VEVENT
END:VCALENDAR